BEGIN:VCALENDAR
PRODID:-//Microsoft Corporation//Outlook MIMEDIR//EN
VERSION:2.0
METHOD:PUBLISH
BEGIN:VEVENT
DTSTART:20260427T180000
DTEND:20260427T190000
DESCRIPTION:
LOCATION:City Hall Room 11
SUMMARY:Bicycle and Pedestrian Sub-Committee
CATEGORIES:MEETING
END:VEVENT
END:VCALENDAR
